BEGIN:VCALENDAR
VERSION:2.0
PRODID:-//Fatrat 85 - ECPv6.15.20//NONSGML v1.0//EN
CALSCALE:GREGORIAN
METHOD:PUBLISH
X-ORIGINAL-URL:https://fatrat85.com
X-WR-CALDESC:Évènements pour Fatrat 85
REFRESH-INTERVAL;VALUE=DURATION:PT1H
X-Robots-Tag:noindex
X-PUBLISHED-TTL:PT1H
BEGIN:VTIMEZONE
TZID:Europe/Paris
BEGIN:DAYLIGHT
TZOFFSETFROM:+0100
TZOFFSETTO:+0200
TZNAME:CEST
DTSTART:20250330T010000
END:DAYLIGHT
BEGIN:STANDARD
TZOFFSETFROM:+0200
TZOFFSETTO:+0100
TZNAME:CET
DTSTART:20251026T010000
END:STANDARD
BEGIN:DAYLIGHT
TZOFFSETFROM:+0100
TZOFFSETTO:+0200
TZNAME:CEST
DTSTART:20260329T010000
END:DAYLIGHT
BEGIN:STANDARD
TZOFFSETFROM:+0200
TZOFFSETTO:+0100
TZNAME:CET
DTSTART:20261025T010000
END:STANDARD
BEGIN:DAYLIGHT
TZOFFSETFROM:+0100
TZOFFSETTO:+0200
TZNAME:CEST
DTSTART:20270328T010000
END:DAYLIGHT
BEGIN:STANDARD
TZOFFSETFROM:+0200
TZOFFSETTO:+0100
TZNAME:CET
DTSTART:20271031T010000
END:STANDARD
END:VTIMEZONE
BEGIN:VEVENT
DTSTART;TZID=Europe/Paris:20260213T203000
DTEND;TZID=Europe/Paris:20260213T230000
DTSTAMP:20260420T090529
CREATED:20251126T131605Z
LAST-MODIFIED:20260128T172635Z
UID:10000235-1771014600-1771023600@fatrat85.com
SUMMARY:Un point c'est tout ! de Laurent BAFFIE
DESCRIPTION:Un motard\, un routier et six automobilistes hauts en couleur viennent passer un stage de deux jours de récupération de points du permis de conduire. Les deux moniteurs de stage vont avoir bien du mal à leur faire comprendre les dangers de la route\, sans compter les retrouvailles des uns\, les disputes des autres\, les quiproquos et les caractères bien trempés des stagiaires.
URL:https://fatrat85.com/evenement/un-point-cest-tout-de-laurent-baffie/2026-02-13/
LOCATION:Saint Vincent sur Jard\, 9 route de Jard salle Clémenceau\, Saint Vincent sur Jard\, 85520\, France
ORGANIZER;CN="ESPERANCE THEATRALE":MAILTO:theatrelesperance.secretariat@gmail.com
END:VEVENT
BEGIN:VEVENT
DTSTART;TZID=Europe/Paris:20260213T203000
DTEND;TZID=Europe/Paris:20260213T230000
DTSTAMP:20260420T090529
CREATED:20260121T155052Z
LAST-MODIFIED:20260121T155656Z
UID:10000393-1771014600-1771023600@fatrat85.com
SUMMARY:Alerto Hôtel Bonjour
DESCRIPTION:Le directeur est à deux doigts de craquer! \nEntre le personnel pas à la hauteur\, l’arrivée de clients hauts en couleur\, le cambriolage du casino tout proche de l’hôtel\, la journée risque d’être très compliquée… \nEt puis il y a aussi cette histoire de sac de rando\, de pince monseigneur\, de vanille… \nLa police débarque\, l’enquête commence et tout s’emballe… \nUne comédie déjantée et désopilante.
URL:https://fatrat85.com/evenement/alerto-hotel-bonjour/2026-02-13/
LOCATION:salle le cercle Nieul le Dolent\, 13 Rue Jean Blanchet\, Nieul-le-Dolent\, 85430\, France
ORGANIZER;CN="la compagnie t'as pas une pi%C3%A8ce":MAILTO:lacompagnietaspasunepiece@gmail.com
END:VEVENT
BEGIN:VEVENT
DTSTART;TZID=Europe/Paris:20260213T203000
DTEND;TZID=Europe/Paris:20260213T233000
DTSTAMP:20260420T090529
CREATED:20260107T160559Z
LAST-MODIFIED:20260107T160742Z
UID:10000339-1771014600-1771025400@fatrat85.com
SUMMARY:THEATRE SAINTE CECILE
DESCRIPTION:
URL:https://fatrat85.com/evenement/theatre-sainte-cecile/2026-02-13/
END:VEVENT
END:VCALENDAR