BEGIN:VCALENDAR
VERSION:2.0
PRODID:-//Fatrat 85 - ECPv6.15.20//NONSGML v1.0//EN
CALSCALE:GREGORIAN
METHOD:PUBLISH
X-ORIGINAL-URL:https://fatrat85.com
X-WR-CALDESC:Évènements pour Fatrat 85
REFRESH-INTERVAL;VALUE=DURATION:PT1H
X-Robots-Tag:noindex
X-PUBLISHED-TTL:PT1H
BEGIN:VTIMEZONE
TZID:Europe/Paris
BEGIN:DAYLIGHT
TZOFFSETFROM:+0100
TZOFFSETTO:+0200
TZNAME:CEST
DTSTART:20250330T010000
END:DAYLIGHT
BEGIN:STANDARD
TZOFFSETFROM:+0200
TZOFFSETTO:+0100
TZNAME:CET
DTSTART:20251026T010000
END:STANDARD
BEGIN:DAYLIGHT
TZOFFSETFROM:+0100
TZOFFSETTO:+0200
TZNAME:CEST
DTSTART:20260329T010000
END:DAYLIGHT
BEGIN:STANDARD
TZOFFSETFROM:+0200
TZOFFSETTO:+0100
TZNAME:CET
DTSTART:20261025T010000
END:STANDARD
BEGIN:DAYLIGHT
TZOFFSETFROM:+0100
TZOFFSETTO:+0200
TZNAME:CEST
DTSTART:20270328T010000
END:DAYLIGHT
BEGIN:STANDARD
TZOFFSETFROM:+0200
TZOFFSETTO:+0100
TZNAME:CET
DTSTART:20271031T010000
END:STANDARD
END:VTIMEZONE
BEGIN:VEVENT
DTSTART;TZID=Europe/Paris:20260430T190000
DTEND;TZID=Europe/Paris:20260430T210000
DTSTAMP:20260420T061640
CREATED:20260330T173452Z
LAST-MODIFIED:20260330T173452Z
UID:10000839-1777575600-1777582800@fatrat85.com
SUMMARY:L'Entracte ouvre ses portes - Stage de découverte théâtrale
DESCRIPTION:L’association souhaite aujourd’hui ouvrir ses portes à de nouveaux talents. Afin de compléter le groupe adultes\, une séance d’initiation au théâtre est proposée le jeudi 30 avril\, de 19 h à 21 h\, à la salle polyvalente de Grosbreuil. \nOrganisée en partenariat avec la compagnie Atout Scène\, ce stage\, accessible au tarif de 10 euros\, permettra aux curieux comme aux passionnés de découvrir la pratique théâtrale dans une ambiance conviviale. L’atelier se déroulera à partir de 7 participants (+18 ans) et sur réservation uniquement au 06 42 77 09 34. \nCette initiative se veut avant tout un moment de partage et de découverte\, offrant à chacun l’opportunité de monter sur scène et\, pourquoi pas\, de rejoindre l’aventure de l’Entracte pour la prochaine saison. \n  \n 
URL:https://fatrat85.com/evenement/lentracte-ouvre-ses-portes-stage-de-decouverte-theatrale/
LOCATION:Salle polyvalente de Grosbreuil\, Rue de la Mairie\, Grosbreuil\, 85440
ATTACH;FMTTYPE=image/jpeg:https://fatrat85.com/wp-content/uploads/2026/03/affiche-theatre.jpeg
END:VEVENT
END:VCALENDAR