BEGIN:VCALENDAR
VERSION:2.0
PRODID:-//Fatrat 85 - ECPv6.15.20//NONSGML v1.0//EN
CALSCALE:GREGORIAN
METHOD:PUBLISH
X-ORIGINAL-URL:https://fatrat85.com
X-WR-CALDESC:Évènements pour Fatrat 85
REFRESH-INTERVAL;VALUE=DURATION:PT1H
X-Robots-Tag:noindex
X-PUBLISHED-TTL:PT1H
BEGIN:VTIMEZONE
TZID:Europe/Paris
BEGIN:DAYLIGHT
TZOFFSETFROM:+0100
TZOFFSETTO:+0200
TZNAME:CEST
DTSTART:20250330T010000
END:DAYLIGHT
BEGIN:STANDARD
TZOFFSETFROM:+0200
TZOFFSETTO:+0100
TZNAME:CET
DTSTART:20251026T010000
END:STANDARD
BEGIN:DAYLIGHT
TZOFFSETFROM:+0100
TZOFFSETTO:+0200
TZNAME:CEST
DTSTART:20260329T010000
END:DAYLIGHT
BEGIN:STANDARD
TZOFFSETFROM:+0200
TZOFFSETTO:+0100
TZNAME:CET
DTSTART:20261025T010000
END:STANDARD
BEGIN:DAYLIGHT
TZOFFSETFROM:+0100
TZOFFSETTO:+0200
TZNAME:CEST
DTSTART:20270328T010000
END:DAYLIGHT
BEGIN:STANDARD
TZOFFSETFROM:+0200
TZOFFSETTO:+0100
TZNAME:CET
DTSTART:20271031T010000
END:STANDARD
END:VTIMEZONE
BEGIN:VEVENT
DTSTART;TZID=Europe/Paris:20260508T203000
DTEND;TZID=Europe/Paris:20260508T220000
DTSTAMP:20260420T073348
CREATED:20260323T111514Z
LAST-MODIFIED:20260323T111514Z
UID:10000836-1778272200-1778277600@fatrat85.com
SUMMARY:Meilleurs voeux
DESCRIPTION:Succès reprise de « Meilleurs voeux » … pour ceux qui ont envie de revenir et ceux qui n’avaient pas pu venir en mars.  \nIls ont une seule chose en commun : tout les oppose. Mais le soir du réveillon tout est possible\, même l’improbable et surtout l’impossible. \nAlors qu’elle doit se rendre à un réveillon\, Sandrine reçoit l’appel d’un inconnu qui demande à la voir car il a un secret à lui révéler. Les révélations d’Antoine feront-elles basculer leurs vies ?   \nCe 31 décembre inoubliable\, riche en rires et émotions\, est une comédie pétillante\, tendre\, drôle et inattendue. \nDéconseillé au moins de 12 ans.  \nMeilleurs Vœux est une comédie pleine d’humour de Carole Greep\, l’auteure de « J’aime beaucoup ce que vous faites » \, « Post-it »\, « La bombe »\, mise en scène par Pascal Benizeau. Avec Delphine Chavinier et Pascal Benizeau
URL:https://fatrat85.com/evenement/meilleurs-voeux-5/2026-05-08/
LOCATION:Théâtre de la Coutancière – La Roche sur Yon
ATTACH;FMTTYPE=image/jpeg:https://fatrat85.com/wp-content/uploads/2026/03/MV-LRY-MAI-.jpg
ORGANIZER;CN="It's a live":MAILTO:asso.itsalive@gmail.com
END:VEVENT
END:VCALENDAR