BEGIN:VCALENDAR
VERSION:2.0
PRODID:-//Fatrat 85 - ECPv6.15.20//NONSGML v1.0//EN
CALSCALE:GREGORIAN
METHOD:PUBLISH
X-ORIGINAL-URL:https://fatrat85.com
X-WR-CALDESC:Évènements pour Fatrat 85
REFRESH-INTERVAL;VALUE=DURATION:PT1H
X-Robots-Tag:noindex
X-PUBLISHED-TTL:PT1H
BEGIN:VTIMEZONE
TZID:Europe/Paris
BEGIN:DAYLIGHT
TZOFFSETFROM:+0100
TZOFFSETTO:+0200
TZNAME:CEST
DTSTART:20250330T010000
END:DAYLIGHT
BEGIN:STANDARD
TZOFFSETFROM:+0200
TZOFFSETTO:+0100
TZNAME:CET
DTSTART:20251026T010000
END:STANDARD
BEGIN:DAYLIGHT
TZOFFSETFROM:+0100
TZOFFSETTO:+0200
TZNAME:CEST
DTSTART:20260329T010000
END:DAYLIGHT
BEGIN:STANDARD
TZOFFSETFROM:+0200
TZOFFSETTO:+0100
TZNAME:CET
DTSTART:20261025T010000
END:STANDARD
BEGIN:DAYLIGHT
TZOFFSETFROM:+0100
TZOFFSETTO:+0200
TZNAME:CEST
DTSTART:20270328T010000
END:DAYLIGHT
BEGIN:STANDARD
TZOFFSETFROM:+0200
TZOFFSETTO:+0100
TZNAME:CET
DTSTART:20271031T010000
END:STANDARD
END:VTIMEZONE
BEGIN:VEVENT
DTSTART;TZID=Europe/Paris:20260515T203000
DTEND;TZID=Europe/Paris:20260515T220000
DTSTAMP:20260420T073418
CREATED:20260113T113611Z
LAST-MODIFIED:20260113T113759Z
UID:10000354-1778877000-1778882400@fatrat85.com
SUMMARY:BUILDING
DESCRIPTION:Building de Léonore Confino\, mise en scène Christophe Sauvion\, compagnie Grizzli.\n\n\n\nUn building de treize étages\, une journée de la vie de salariés broyés par la hiérarchie et la logique de performance.\nUn univers\, le nôtre\, où l’élément de langage\, le principe de précaution et la peur sont devenus rois.\nLes protagonistes se croisent sans se voir\, se parlent sans s’écouter et s’enfoncent inexorablement dans leur solitude.\n\nUne écriture drôle\, de l’humour grinçant\, des situations poussées jusqu’à l’absurde et des personnages attachants.\n\n\n\nSalle de l’Espadon\, les Sables d’Olonne.\n10€00 tarif plein\, 6€00 moins de 16 ans\n\nRéservation office de tourisme\nhttps://boutique.lessablesdolonne.fr/…/spectacles/building\nou sur place les jours de spectacles.
URL:https://fatrat85.com/evenement/17987/2026-05-15/
LOCATION:Salle de l’Espadon\, Allée des Cèdres\, les Sables d'Olonne\, France
ATTACH;FMTTYPE=image/jpeg:https://fatrat85.com/wp-content/uploads/2026/01/affiche3.jpg
END:VEVENT
END:VCALENDAR