BEGIN:VCALENDAR
VERSION:2.0
PRODID:-//Fatrat 85 - ECPv6.15.20//NONSGML v1.0//EN
CALSCALE:GREGORIAN
METHOD:PUBLISH
X-ORIGINAL-URL:https://fatrat85.com
X-WR-CALDESC:Évènements pour Fatrat 85
REFRESH-INTERVAL;VALUE=DURATION:PT1H
X-Robots-Tag:noindex
X-PUBLISHED-TTL:PT1H
BEGIN:VTIMEZONE
TZID:Europe/Paris
BEGIN:DAYLIGHT
TZOFFSETFROM:+0100
TZOFFSETTO:+0200
TZNAME:CEST
DTSTART:20250330T010000
END:DAYLIGHT
BEGIN:STANDARD
TZOFFSETFROM:+0200
TZOFFSETTO:+0100
TZNAME:CET
DTSTART:20251026T010000
END:STANDARD
BEGIN:DAYLIGHT
TZOFFSETFROM:+0100
TZOFFSETTO:+0200
TZNAME:CEST
DTSTART:20260329T010000
END:DAYLIGHT
BEGIN:STANDARD
TZOFFSETFROM:+0200
TZOFFSETTO:+0100
TZNAME:CET
DTSTART:20261025T010000
END:STANDARD
BEGIN:DAYLIGHT
TZOFFSETFROM:+0100
TZOFFSETTO:+0200
TZNAME:CEST
DTSTART:20270328T010000
END:DAYLIGHT
BEGIN:STANDARD
TZOFFSETFROM:+0200
TZOFFSETTO:+0100
TZNAME:CET
DTSTART:20271031T010000
END:STANDARD
END:VTIMEZONE
BEGIN:VEVENT
DTSTART;TZID=Europe/Paris:20260320T203000
DTEND;TZID=Europe/Paris:20260320T233000
DTSTAMP:20260420T103002
CREATED:20260221T155529Z
LAST-MODIFIED:20260221T155529Z
UID:10000804-1774038600-1774049400@fatrat85.com
SUMMARY:Tous mes rêves partent de gare d'Austerlitz
DESCRIPTION:🎭L’Entracte de Grosbreuil est de retour sur les planches en mars 2026 ! 🎭 \nDécouvrez notre programme : \nLa première partie est assurée par nos deux groupes juniors (sauf le mardi) \nLe mardi 24/03\, une soirée d’improvisation sera proposée avant le spectacle adulte (les troupes partenaires seront communiquées ultérieurement) \nRéservations : 06 51 75 55 05
URL:https://fatrat85.com/evenement/tous-mes-reves-partent-de-gare-dausterlitz/2026-03-20/
LOCATION:Salle polyvalente de Grosbreuil\, Rue de la Mairie\, Grosbreuil\, 85440
ORGANIZER;CN="L'ENTRACTE DE GROSBREUIL":MAILTO:entracte.grosbreuil@gmail.com
END:VEVENT
BEGIN:VEVENT
DTSTART;TZID=Europe/Paris:20260321T203000
DTEND;TZID=Europe/Paris:20260321T233000
DTSTAMP:20260420T103002
CREATED:20260104T171336Z
LAST-MODIFIED:20260104T172041Z
UID:10000325-1774125000-1774135800@fatrat85.com
SUMMARY:Mise en Pièce(s)
DESCRIPTION:  \n » Un couple se déchire et c’est le début d’un jeu de rôle caustique entre les acteurs. Avec humour et dérision\, la pièce entraîne le spectateur dans un ballet de trahisons\, faux semblants et révélations surprenantes. «  \n​Une pièce drôle\, étonnante et émouvante. \nRéservations : \nhttps://www.helloasso.com/associations/lolayo/evenements/mise-en-pieces-s \nInformations: \nhttps://tchab0.wixsite.com/artsceneetcie
URL:https://fatrat85.com/evenement/mise-en-pieces/
LOCATION:Espace Ypresis Saint Hilaire de Loulay\, 47 Rue de Nantes\, Montaigu-Vendée\, Vendée\, 85600\, France
ATTACH;FMTTYPE=image/jpeg:https://fatrat85.com/wp-content/uploads/2026/01/affiche-A4.jpg
END:VEVENT
BEGIN:VEVENT
DTSTART;TZID=Europe/Paris:20260321T203000
DTEND;TZID=Europe/Paris:20260321T233000
DTSTAMP:20260420T103002
CREATED:20260221T155529Z
LAST-MODIFIED:20260221T155529Z
UID:10000812-1774125000-1774135800@fatrat85.com
SUMMARY:Tous mes rêves partent de gare d'Austerlitz
DESCRIPTION:🎭L’Entracte de Grosbreuil est de retour sur les planches en mars 2026 ! 🎭 \nDécouvrez notre programme : \nLa première partie est assurée par nos deux groupes juniors (sauf le mardi) \nLe mardi 24/03\, une soirée d’improvisation sera proposée avant le spectacle adulte (les troupes partenaires seront communiquées ultérieurement) \nRéservations : 06 51 75 55 05
URL:https://fatrat85.com/evenement/tous-mes-reves-partent-de-gare-dausterlitz/2026-03-21/
LOCATION:Salle polyvalente de Grosbreuil\, Rue de la Mairie\, Grosbreuil\, 85440
ORGANIZER;CN="L'ENTRACTE DE GROSBREUIL":MAILTO:entracte.grosbreuil@gmail.com
END:VEVENT
BEGIN:VEVENT
DTSTART;TZID=Europe/Paris:20260324T203000
DTEND;TZID=Europe/Paris:20260324T233000
DTSTAMP:20260420T103002
CREATED:20260221T155529Z
LAST-MODIFIED:20260221T155529Z
UID:10000813-1774384200-1774395000@fatrat85.com
SUMMARY:Tous mes rêves partent de gare d'Austerlitz
DESCRIPTION:🎭L’Entracte de Grosbreuil est de retour sur les planches en mars 2026 ! 🎭 \nDécouvrez notre programme : \nLa première partie est assurée par nos deux groupes juniors (sauf le mardi) \nLe mardi 24/03\, une soirée d’improvisation sera proposée avant le spectacle adulte (les troupes partenaires seront communiquées ultérieurement) \nRéservations : 06 51 75 55 05
URL:https://fatrat85.com/evenement/tous-mes-reves-partent-de-gare-dausterlitz/2026-03-24/
LOCATION:Salle polyvalente de Grosbreuil\, Rue de la Mairie\, Grosbreuil\, 85440
ORGANIZER;CN="L'ENTRACTE DE GROSBREUIL":MAILTO:entracte.grosbreuil@gmail.com
END:VEVENT
BEGIN:VEVENT
DTSTART;TZID=Europe/Paris:20260327T203000
DTEND;TZID=Europe/Paris:20260327T230000
DTSTAMP:20260420T103002
CREATED:20260221T155529Z
LAST-MODIFIED:20260221T155529Z
UID:10000814-1774643400-1774652400@fatrat85.com
SUMMARY:Tous mes rêves partent de gare d'Austerlitz
DESCRIPTION:🎭L’Entracte de Grosbreuil est de retour sur les planches en mars 2026 ! 🎭 \nDécouvrez notre programme : \nLa première partie est assurée par nos deux groupes juniors (sauf le mardi) \nLe mardi 24/03\, une soirée d’improvisation sera proposée avant le spectacle adulte (les troupes partenaires seront communiquées ultérieurement) \nRéservations : 06 51 75 55 05
URL:https://fatrat85.com/evenement/tous-mes-reves-partent-de-gare-dausterlitz/2026-03-27/
LOCATION:Salle polyvalente de Grosbreuil\, Rue de la Mairie\, Grosbreuil\, 85440
ORGANIZER;CN="L'ENTRACTE DE GROSBREUIL":MAILTO:entracte.grosbreuil@gmail.com
END:VEVENT
BEGIN:VEVENT
DTSTART;TZID=Europe/Paris:20260328T203000
DTEND;TZID=Europe/Paris:20260328T233000
DTSTAMP:20260420T103002
CREATED:20260221T155529Z
LAST-MODIFIED:20260221T155529Z
UID:10000815-1774729800-1774740600@fatrat85.com
SUMMARY:Tous mes rêves partent de gare d'Austerlitz
DESCRIPTION:🎭L’Entracte de Grosbreuil est de retour sur les planches en mars 2026 ! 🎭 \nDécouvrez notre programme : \nLa première partie est assurée par nos deux groupes juniors (sauf le mardi) \nLe mardi 24/03\, une soirée d’improvisation sera proposée avant le spectacle adulte (les troupes partenaires seront communiquées ultérieurement) \nRéservations : 06 51 75 55 05
URL:https://fatrat85.com/evenement/tous-mes-reves-partent-de-gare-dausterlitz/2026-03-28/
LOCATION:Salle polyvalente de Grosbreuil\, Rue de la Mairie\, Grosbreuil\, 85440
ORGANIZER;CN="L'ENTRACTE DE GROSBREUIL":MAILTO:entracte.grosbreuil@gmail.com
END:VEVENT
BEGIN:VEVENT
DTSTART;TZID=Europe/Paris:20260329T143000
DTEND;TZID=Europe/Paris:20260329T173000
DTSTAMP:20260420T103002
CREATED:20260221T155529Z
LAST-MODIFIED:20260221T155529Z
UID:10000816-1774794600-1774805400@fatrat85.com
SUMMARY:Tous mes rêves partent de gare d'Austerlitz
DESCRIPTION:🎭L’Entracte de Grosbreuil est de retour sur les planches en mars 2026 ! 🎭 \nDécouvrez notre programme : \nLa première partie est assurée par nos deux groupes juniors (sauf le mardi) \nLe mardi 24/03\, une soirée d’improvisation sera proposée avant le spectacle adulte (les troupes partenaires seront communiquées ultérieurement) \nRéservations : 06 51 75 55 05
URL:https://fatrat85.com/evenement/tous-mes-reves-partent-de-gare-dausterlitz/2026-03-29/
LOCATION:Salle polyvalente de Grosbreuil\, Rue de la Mairie\, Grosbreuil\, 85440
ORGANIZER;CN="L'ENTRACTE DE GROSBREUIL":MAILTO:entracte.grosbreuil@gmail.com
END:VEVENT
END:VCALENDAR