BEGIN:VCALENDAR
VERSION:2.0
PRODID:-//Fatrat 85 - ECPv6.15.20//NONSGML v1.0//EN
CALSCALE:GREGORIAN
METHOD:PUBLISH
X-WR-CALNAME:Fatrat 85
X-ORIGINAL-URL:https://fatrat85.com
X-WR-CALDESC:Évènements pour Fatrat 85
REFRESH-INTERVAL;VALUE=DURATION:PT1H
X-Robots-Tag:noindex
X-PUBLISHED-TTL:PT1H
BEGIN:VTIMEZONE
TZID:Europe/Paris
BEGIN:DAYLIGHT
TZOFFSETFROM:+0100
TZOFFSETTO:+0200
TZNAME:CEST
DTSTART:20250330T010000
END:DAYLIGHT
BEGIN:STANDARD
TZOFFSETFROM:+0200
TZOFFSETTO:+0100
TZNAME:CET
DTSTART:20251026T010000
END:STANDARD
BEGIN:DAYLIGHT
TZOFFSETFROM:+0100
TZOFFSETTO:+0200
TZNAME:CEST
DTSTART:20260329T010000
END:DAYLIGHT
BEGIN:STANDARD
TZOFFSETFROM:+0200
TZOFFSETTO:+0100
TZNAME:CET
DTSTART:20261025T010000
END:STANDARD
BEGIN:DAYLIGHT
TZOFFSETFROM:+0100
TZOFFSETTO:+0200
TZNAME:CEST
DTSTART:20270328T010000
END:DAYLIGHT
BEGIN:STANDARD
TZOFFSETFROM:+0200
TZOFFSETTO:+0100
TZNAME:CET
DTSTART:20271031T010000
END:STANDARD
END:VTIMEZONE
BEGIN:VEVENT
DTSTART;TZID=Europe/Paris:20260530T170000
DTEND;TZID=Europe/Paris:20260530T190000
DTSTAMP:20260422T135201
CREATED:20260422T080914Z
LAST-MODIFIED:20260422T081532Z
UID:10000853-1780160400-1780167600@fatrat85.com
SUMMARY:Dernier spectacle école de théâtre enfant\, ado et adulte
DESCRIPTION:L’école de théâtre de la compagnie du “ Fou de Bassan ” \nainsi que l’atelier adulte\, \nprésente son dernier spectacle \nmis en scène par \nLaetitia Chenoir et Xavier Merlet de la Compagnie Zany Corneto: \n« L’atelier des FOUS » \nSamedi 30 mai 17h et Dimanche 31 mai 15h \nInfos pratiques  \nSalle des fêtes 22 Rue de la Rousselotière 85800 GIVRAND \nTarifs : 6€ et 3€ \nRéservations via le lien: \nhttps://compagnie-du-fou-de-bassan-2.s2.yapla.com/fr/evenements \n07 83 84 33 98 ou  foubassangivrand@free.fr
URL:https://fatrat85.com/evenement/18382/2026-05-30/
LOCATION:salle des fêtes Givrand\, 22 Rue de la Rousselotière\, GIVRAND\, 85800\, France
ATTACH;FMTTYPE=image/jpeg:https://fatrat85.com/wp-content/uploads/2026/04/SPECTACLE-2026.jpg
ORGANIZER;CN="Cie du Fou de bassan":MAILTO:foubassangivrand@free.fr
END:VEVENT
BEGIN:VEVENT
DTSTART;TZID=Europe/Paris:20260531T150000
DTEND;TZID=Europe/Paris:20260531T170000
DTSTAMP:20260422T135201
CREATED:20260422T080914Z
LAST-MODIFIED:20260422T081532Z
UID:10000854-1780239600-1780246800@fatrat85.com
SUMMARY:Dernier spectacle école de théâtre enfant\, ado et adulte
DESCRIPTION:L’école de théâtre de la compagnie du “ Fou de Bassan ” \nainsi que l’atelier adulte\, \nprésente son dernier spectacle \nmis en scène par \nLaetitia Chenoir et Xavier Merlet de la Compagnie Zany Corneto: \n« L’atelier des FOUS » \nSamedi 30 mai 17h et Dimanche 31 mai 15h \nInfos pratiques  \nSalle des fêtes 22 Rue de la Rousselotière 85800 GIVRAND \nTarifs : 6€ et 3€ \nRéservations via le lien: \nhttps://compagnie-du-fou-de-bassan-2.s2.yapla.com/fr/evenements \n07 83 84 33 98 ou  foubassangivrand@free.fr
URL:https://fatrat85.com/evenement/18382/2026-05-31/
LOCATION:salle des fêtes Givrand\, 22 Rue de la Rousselotière\, GIVRAND\, 85800\, France
ATTACH;FMTTYPE=image/jpeg:https://fatrat85.com/wp-content/uploads/2026/04/SPECTACLE-2026.jpg
ORGANIZER;CN="Cie du Fou de bassan":MAILTO:foubassangivrand@free.fr
END:VEVENT
END:VCALENDAR