BEGIN:VCALENDAR
VERSION:2.0
PRODID:-//Fatrat 85 - ECPv6.15.20//NONSGML v1.0//EN
CALSCALE:GREGORIAN
METHOD:PUBLISH
X-ORIGINAL-URL:https://fatrat85.com
X-WR-CALDESC:Évènements pour Fatrat 85
REFRESH-INTERVAL;VALUE=DURATION:PT1H
X-Robots-Tag:noindex
X-PUBLISHED-TTL:PT1H
BEGIN:VTIMEZONE
TZID:Europe/Paris
BEGIN:DAYLIGHT
TZOFFSETFROM:+0100
TZOFFSETTO:+0200
TZNAME:CEST
DTSTART:20250330T010000
END:DAYLIGHT
BEGIN:STANDARD
TZOFFSETFROM:+0200
TZOFFSETTO:+0100
TZNAME:CET
DTSTART:20251026T010000
END:STANDARD
BEGIN:DAYLIGHT
TZOFFSETFROM:+0100
TZOFFSETTO:+0200
TZNAME:CEST
DTSTART:20260329T010000
END:DAYLIGHT
BEGIN:STANDARD
TZOFFSETFROM:+0200
TZOFFSETTO:+0100
TZNAME:CET
DTSTART:20261025T010000
END:STANDARD
BEGIN:DAYLIGHT
TZOFFSETFROM:+0100
TZOFFSETTO:+0200
TZNAME:CEST
DTSTART:20270328T010000
END:DAYLIGHT
BEGIN:STANDARD
TZOFFSETFROM:+0200
TZOFFSETTO:+0100
TZNAME:CET
DTSTART:20271031T010000
END:STANDARD
END:VTIMEZONE
BEGIN:VEVENT
DTSTART;TZID=Europe/Paris:20260222T143000
DTEND;TZID=Europe/Paris:20260222T170000
DTSTAMP:20260422T165605
CREATED:20260122T153110Z
LAST-MODIFIED:20260122T153110Z
UID:10000351-1771770600-1771779600@fatrat85.com
SUMMARY:opération camomille
DESCRIPTION:  \nEn première partie :\n« Ça va pas le faire ! » d’Olivier Tourancheau\nPièce en 1 acte \nÀ la veille de la première représentation de l’année\, les comédiens décident de répéter une dernière fois… mais rien ne se passe comme prévu. Il faut dire que la pièce qu’ils sont contraints de jouer est\, selon eux\, tout simplement nulle !\nEntre personnages contemporains et figures du XVIIIᵉ siècle en pleine Révolution française\, la répétition tourne rapidement au chaos. Une comédie méta-théâtrale pleine de rythme et d’autodérision. \nEn seconde partie :\n« Opération Camomille » de Christian Rossignol \nPièce en 3 actes \n Claude doit préparer la rencontre secrète du président de la République française avec le dictateur du Kazoukshistan venu signer un fabuleux contrat entre les deux pays. Il a choisi pour cela le château très isolé de sa tante Anna dans lequel les services secrets ont normalement tout préparé et tout sécurisé. S’il doute un peu des compétences de l’agent Ducrampon\, qu’on lui a octroyé et qui se prend pour James Bond\, il n’imagine pas à quel point sa mission va se compliquer au fil des minutes et des catastrophes provoquées par son entourage ou par les personnages\, tous plus inattendus et frappadingues les uns que les autres\, qui vont débarquer. Pourra-t-il s’appuyer sur Marie-Louise\, sa dévouée mais naïve secrétaire\, ou sur Rosemonde\, l’autoritaire cuisinière du château ? Rien n’est moins sûr. \nLes comédiens amateurs seront sur la scène de la salle polyvalente Ernest Renaud les samedis 14\, dimanche 15\, vendredi 20\, samedi 21 et dimanche 22 février 2026 en soirée ou en après- midi pour les dimanches.\n \nChaque année\, l’association a à cœur de jouer pour un but caritatif. Une partie des bénéfices sera distribuée à des associations locales.
URL:https://fatrat85.com/evenement/operation-camomille/2026-02-22/
LOCATION:salleErnest Renaud\, Saint Julien Des Landes\, France
ORGANIZER;CN="TILT":MAILTO:assotilt85@gmail.com
END:VEVENT
BEGIN:VEVENT
DTSTART;TZID=Europe/Paris:20260221T203000
DTEND;TZID=Europe/Paris:20260221T230000
DTSTAMP:20260422T165605
CREATED:20260122T153110Z
LAST-MODIFIED:20260122T153110Z
UID:10000350-1771705800-1771714800@fatrat85.com
SUMMARY:opération camomille
DESCRIPTION:  \nEn première partie :\n« Ça va pas le faire ! » d’Olivier Tourancheau\nPièce en 1 acte \nÀ la veille de la première représentation de l’année\, les comédiens décident de répéter une dernière fois… mais rien ne se passe comme prévu. Il faut dire que la pièce qu’ils sont contraints de jouer est\, selon eux\, tout simplement nulle !\nEntre personnages contemporains et figures du XVIIIᵉ siècle en pleine Révolution française\, la répétition tourne rapidement au chaos. Une comédie méta-théâtrale pleine de rythme et d’autodérision. \nEn seconde partie :\n« Opération Camomille » de Christian Rossignol \nPièce en 3 actes \n Claude doit préparer la rencontre secrète du président de la République française avec le dictateur du Kazoukshistan venu signer un fabuleux contrat entre les deux pays. Il a choisi pour cela le château très isolé de sa tante Anna dans lequel les services secrets ont normalement tout préparé et tout sécurisé. S’il doute un peu des compétences de l’agent Ducrampon\, qu’on lui a octroyé et qui se prend pour James Bond\, il n’imagine pas à quel point sa mission va se compliquer au fil des minutes et des catastrophes provoquées par son entourage ou par les personnages\, tous plus inattendus et frappadingues les uns que les autres\, qui vont débarquer. Pourra-t-il s’appuyer sur Marie-Louise\, sa dévouée mais naïve secrétaire\, ou sur Rosemonde\, l’autoritaire cuisinière du château ? Rien n’est moins sûr. \nLes comédiens amateurs seront sur la scène de la salle polyvalente Ernest Renaud les samedis 14\, dimanche 15\, vendredi 20\, samedi 21 et dimanche 22 février 2026 en soirée ou en après- midi pour les dimanches.\n \nChaque année\, l’association a à cœur de jouer pour un but caritatif. Une partie des bénéfices sera distribuée à des associations locales.
URL:https://fatrat85.com/evenement/operation-camomille/2026-02-21/
LOCATION:salleErnest Renaud\, Saint Julien Des Landes\, France
ORGANIZER;CN="TILT":MAILTO:assotilt85@gmail.com
END:VEVENT
BEGIN:VEVENT
DTSTART;TZID=Europe/Paris:20260220T203000
DTEND;TZID=Europe/Paris:20260220T230000
DTSTAMP:20260422T165605
CREATED:20260122T153110Z
LAST-MODIFIED:20260122T153110Z
UID:10000349-1771619400-1771628400@fatrat85.com
SUMMARY:opération camomille
DESCRIPTION:  \nEn première partie :\n« Ça va pas le faire ! » d’Olivier Tourancheau\nPièce en 1 acte \nÀ la veille de la première représentation de l’année\, les comédiens décident de répéter une dernière fois… mais rien ne se passe comme prévu. Il faut dire que la pièce qu’ils sont contraints de jouer est\, selon eux\, tout simplement nulle !\nEntre personnages contemporains et figures du XVIIIᵉ siècle en pleine Révolution française\, la répétition tourne rapidement au chaos. Une comédie méta-théâtrale pleine de rythme et d’autodérision. \nEn seconde partie :\n« Opération Camomille » de Christian Rossignol \nPièce en 3 actes \n Claude doit préparer la rencontre secrète du président de la République française avec le dictateur du Kazoukshistan venu signer un fabuleux contrat entre les deux pays. Il a choisi pour cela le château très isolé de sa tante Anna dans lequel les services secrets ont normalement tout préparé et tout sécurisé. S’il doute un peu des compétences de l’agent Ducrampon\, qu’on lui a octroyé et qui se prend pour James Bond\, il n’imagine pas à quel point sa mission va se compliquer au fil des minutes et des catastrophes provoquées par son entourage ou par les personnages\, tous plus inattendus et frappadingues les uns que les autres\, qui vont débarquer. Pourra-t-il s’appuyer sur Marie-Louise\, sa dévouée mais naïve secrétaire\, ou sur Rosemonde\, l’autoritaire cuisinière du château ? Rien n’est moins sûr. \nLes comédiens amateurs seront sur la scène de la salle polyvalente Ernest Renaud les samedis 14\, dimanche 15\, vendredi 20\, samedi 21 et dimanche 22 février 2026 en soirée ou en après- midi pour les dimanches.\n \nChaque année\, l’association a à cœur de jouer pour un but caritatif. Une partie des bénéfices sera distribuée à des associations locales.
URL:https://fatrat85.com/evenement/operation-camomille/2026-02-20/
LOCATION:salleErnest Renaud\, Saint Julien Des Landes\, France
ORGANIZER;CN="TILT":MAILTO:assotilt85@gmail.com
END:VEVENT
BEGIN:VEVENT
DTSTART;TZID=Europe/Paris:20260215T143000
DTEND;TZID=Europe/Paris:20260215T170000
DTSTAMP:20260422T165605
CREATED:20260122T153110Z
LAST-MODIFIED:20260122T153110Z
UID:10000348-1771165800-1771174800@fatrat85.com
SUMMARY:opération camomille
DESCRIPTION:  \nEn première partie :\n« Ça va pas le faire ! » d’Olivier Tourancheau\nPièce en 1 acte \nÀ la veille de la première représentation de l’année\, les comédiens décident de répéter une dernière fois… mais rien ne se passe comme prévu. Il faut dire que la pièce qu’ils sont contraints de jouer est\, selon eux\, tout simplement nulle !\nEntre personnages contemporains et figures du XVIIIᵉ siècle en pleine Révolution française\, la répétition tourne rapidement au chaos. Une comédie méta-théâtrale pleine de rythme et d’autodérision. \nEn seconde partie :\n« Opération Camomille » de Christian Rossignol \nPièce en 3 actes \n Claude doit préparer la rencontre secrète du président de la République française avec le dictateur du Kazoukshistan venu signer un fabuleux contrat entre les deux pays. Il a choisi pour cela le château très isolé de sa tante Anna dans lequel les services secrets ont normalement tout préparé et tout sécurisé. S’il doute un peu des compétences de l’agent Ducrampon\, qu’on lui a octroyé et qui se prend pour James Bond\, il n’imagine pas à quel point sa mission va se compliquer au fil des minutes et des catastrophes provoquées par son entourage ou par les personnages\, tous plus inattendus et frappadingues les uns que les autres\, qui vont débarquer. Pourra-t-il s’appuyer sur Marie-Louise\, sa dévouée mais naïve secrétaire\, ou sur Rosemonde\, l’autoritaire cuisinière du château ? Rien n’est moins sûr. \nLes comédiens amateurs seront sur la scène de la salle polyvalente Ernest Renaud les samedis 14\, dimanche 15\, vendredi 20\, samedi 21 et dimanche 22 février 2026 en soirée ou en après- midi pour les dimanches.\n \nChaque année\, l’association a à cœur de jouer pour un but caritatif. Une partie des bénéfices sera distribuée à des associations locales.
URL:https://fatrat85.com/evenement/operation-camomille/2026-02-15/
LOCATION:salleErnest Renaud\, Saint Julien Des Landes\, France
ORGANIZER;CN="TILT":MAILTO:assotilt85@gmail.com
END:VEVENT
BEGIN:VEVENT
DTSTART;TZID=Europe/Paris:20260214T203000
DTEND;TZID=Europe/Paris:20260214T230000
DTSTAMP:20260422T165605
CREATED:20260122T153110Z
LAST-MODIFIED:20260122T153110Z
UID:10000347-1771101000-1771110000@fatrat85.com
SUMMARY:opération camomille
DESCRIPTION:  \nEn première partie :\n« Ça va pas le faire ! » d’Olivier Tourancheau\nPièce en 1 acte \nÀ la veille de la première représentation de l’année\, les comédiens décident de répéter une dernière fois… mais rien ne se passe comme prévu. Il faut dire que la pièce qu’ils sont contraints de jouer est\, selon eux\, tout simplement nulle !\nEntre personnages contemporains et figures du XVIIIᵉ siècle en pleine Révolution française\, la répétition tourne rapidement au chaos. Une comédie méta-théâtrale pleine de rythme et d’autodérision. \nEn seconde partie :\n« Opération Camomille » de Christian Rossignol \nPièce en 3 actes \n Claude doit préparer la rencontre secrète du président de la République française avec le dictateur du Kazoukshistan venu signer un fabuleux contrat entre les deux pays. Il a choisi pour cela le château très isolé de sa tante Anna dans lequel les services secrets ont normalement tout préparé et tout sécurisé. S’il doute un peu des compétences de l’agent Ducrampon\, qu’on lui a octroyé et qui se prend pour James Bond\, il n’imagine pas à quel point sa mission va se compliquer au fil des minutes et des catastrophes provoquées par son entourage ou par les personnages\, tous plus inattendus et frappadingues les uns que les autres\, qui vont débarquer. Pourra-t-il s’appuyer sur Marie-Louise\, sa dévouée mais naïve secrétaire\, ou sur Rosemonde\, l’autoritaire cuisinière du château ? Rien n’est moins sûr. \nLes comédiens amateurs seront sur la scène de la salle polyvalente Ernest Renaud les samedis 14\, dimanche 15\, vendredi 20\, samedi 21 et dimanche 22 février 2026 en soirée ou en après- midi pour les dimanches.\n \nChaque année\, l’association a à cœur de jouer pour un but caritatif. Une partie des bénéfices sera distribuée à des associations locales.
URL:https://fatrat85.com/evenement/operation-camomille/2026-02-14/
LOCATION:salleErnest Renaud\, Saint Julien Des Landes\, France
ORGANIZER;CN="TILT":MAILTO:assotilt85@gmail.com
END:VEVENT
END:VCALENDAR