BEGIN:VCALENDAR
VERSION:2.0
PRODID:-//Fatrat 85 - ECPv6.15.20//NONSGML v1.0//EN
CALSCALE:GREGORIAN
METHOD:PUBLISH
X-WR-CALNAME:Fatrat 85
X-ORIGINAL-URL:https://fatrat85.com
X-WR-CALDESC:Évènements pour Fatrat 85
REFRESH-INTERVAL;VALUE=DURATION:PT1H
X-Robots-Tag:noindex
X-PUBLISHED-TTL:PT1H
BEGIN:VTIMEZONE
TZID:Europe/Paris
BEGIN:DAYLIGHT
TZOFFSETFROM:+0100
TZOFFSETTO:+0200
TZNAME:CEST
DTSTART:20250330T010000
END:DAYLIGHT
BEGIN:STANDARD
TZOFFSETFROM:+0200
TZOFFSETTO:+0100
TZNAME:CET
DTSTART:20251026T010000
END:STANDARD
BEGIN:DAYLIGHT
TZOFFSETFROM:+0100
TZOFFSETTO:+0200
TZNAME:CEST
DTSTART:20260329T010000
END:DAYLIGHT
BEGIN:STANDARD
TZOFFSETFROM:+0200
TZOFFSETTO:+0100
TZNAME:CET
DTSTART:20261025T010000
END:STANDARD
BEGIN:DAYLIGHT
TZOFFSETFROM:+0100
TZOFFSETTO:+0200
TZNAME:CEST
DTSTART:20270328T010000
END:DAYLIGHT
BEGIN:STANDARD
TZOFFSETFROM:+0200
TZOFFSETTO:+0100
TZNAME:CET
DTSTART:20271031T010000
END:STANDARD
END:VTIMEZONE
BEGIN:VEVENT
DTSTART;TZID=Europe/Paris:20260425T203000
DTEND;TZID=Europe/Paris:20260425T220000
DTSTAMP:20260420T061834
CREATED:20260317T144200Z
LAST-MODIFIED:20260317T144200Z
UID:10000829-1777149000-1777154400@fatrat85.com
SUMMARY:Meilleurs voeux
DESCRIPTION:Succès reprise de « Meilleurs voeux » … pour ceux qui ont envie de revenir et ceux qui n’avaient pas pu venir l’automne dernier.  \nIls ont une seule chose en commun : tout les oppose. Mais le soir du réveillon tout est possible\, même l’improbable et surtout l’impossible. \nAlors qu’elle doit se rendre à un réveillon\, Sandrine reçoit l’appel d’un inconnu qui demande à la voir car il a un secret à lui révéler. Les révélations d’Antoine feront-elles basculer leurs vies ?   \nCe 31 décembre inoubliable\, riche en rires et émotions\, est une comédie pétillante\, tendre\, drôle et inattendue. \nDéconseillé au moins de 12 ans.  \nMeilleurs Vœux est une comédie pleine d’humour de Carole Greep\, l’auteure de « J’aime beaucoup ce que vous faites » \, « Post-it »\, « La bombe »\, mise en scène par Pascal Benizeau. Avec Delphine Chavinier et Pascal Benizeau
URL:https://fatrat85.com/evenement/meilleurs-voeux-4/2026-04-25/
LOCATION:Théâtre municipal ANGLES\, 14bis rue du Stade\, ANGLES\, Pays de la Loire\, 85750\, France
ATTACH;FMTTYPE=image/jpeg:https://fatrat85.com/wp-content/uploads/2026/03/MV-ANGLES-AVEC-QRC-.jpg
ORGANIZER;CN="It's a live":MAILTO:asso.itsalive@gmail.com
END:VEVENT
BEGIN:VEVENT
DTSTART;TZID=Europe/Paris:20260426T150000
DTEND;TZID=Europe/Paris:20260426T163000
DTSTAMP:20260420T061834
CREATED:20260317T144200Z
LAST-MODIFIED:20260317T144200Z
UID:10000830-1777215600-1777221000@fatrat85.com
SUMMARY:Meilleurs voeux
DESCRIPTION:Succès reprise de « Meilleurs voeux » … pour ceux qui ont envie de revenir et ceux qui n’avaient pas pu venir l’automne dernier.  \nIls ont une seule chose en commun : tout les oppose. Mais le soir du réveillon tout est possible\, même l’improbable et surtout l’impossible. \nAlors qu’elle doit se rendre à un réveillon\, Sandrine reçoit l’appel d’un inconnu qui demande à la voir car il a un secret à lui révéler. Les révélations d’Antoine feront-elles basculer leurs vies ?   \nCe 31 décembre inoubliable\, riche en rires et émotions\, est une comédie pétillante\, tendre\, drôle et inattendue. \nDéconseillé au moins de 12 ans.  \nMeilleurs Vœux est une comédie pleine d’humour de Carole Greep\, l’auteure de « J’aime beaucoup ce que vous faites » \, « Post-it »\, « La bombe »\, mise en scène par Pascal Benizeau. Avec Delphine Chavinier et Pascal Benizeau
URL:https://fatrat85.com/evenement/meilleurs-voeux-4/2026-04-26/
LOCATION:Théâtre municipal ANGLES\, 14bis rue du Stade\, ANGLES\, Pays de la Loire\, 85750\, France
ATTACH;FMTTYPE=image/jpeg:https://fatrat85.com/wp-content/uploads/2026/03/MV-ANGLES-AVEC-QRC-.jpg
ORGANIZER;CN="It's a live":MAILTO:asso.itsalive@gmail.com
END:VEVENT
BEGIN:VEVENT
DTSTART;TZID=Europe/Paris:20260502T203000
DTEND;TZID=Europe/Paris:20260502T230000
DTSTAMP:20260420T061834
CREATED:20260114T140609Z
LAST-MODIFIED:20260203T180952Z
UID:10000364-1777753800-1777762800@fatrat85.com
SUMMARY:Le Dîner de Condé
DESCRIPTION:Une comédie de Sandrine Campese (éditions la librairie théâtrale)\, mise en scène de Romain Bonnet \nLe Grand Condé\, pour regagner les faveurs de son cousin Louis XIV\, le convie\, lui et sa cour\, en son château de Chantilly pour trois jours de festivités. Deux mille couverts doivent être prêts en un temps record. Afin d’organiser cette somptueuse réception\, Condé peut compter sur la crème des maîtres d’hôtel : François Vatel. Mais ce dernier\, flanqué d’une équipe incontrôlable\, n’est pas au bout de ses surprises. Entre coups tordus et coups du sort\, les préparatifs s’avèrent plus tumultueux que prévus… \nUne comédie haute en couleur\, aux dialogues piquants qui rend hommage à un personnage au destin exceptionnel : François Vatel. \n…………………………………………………………. \nRéservations : \n\n07 80 27 08 41\nmezzoreilles@gmail.com\nhttps://www.helloasso.com/associations/mezzo-reilles\n\n…………………………………………………………. \nToutes les dates : \n\nAux Sables d’Olonne :\n\nVendredi 20 et samedi 21 mars à 20h30 et dimanche 22 mars à 16h à l’Espadon \nVendredi 27 et samedi 28 mars à 20h30 et dimanche 29 mars à 16h à la Gargamoëlle \n\nA Angles :\n\nSamedi 2 mai à 20h30 et dimanche 3 mai à 16h au théâtre municipal
URL:https://fatrat85.com/evenement/le-diner-de-conde-3/2026-05-02/
LOCATION:Théâtre municipal ANGLES\, 14bis rue du Stade\, ANGLES\, Pays de la Loire\, 85750\, France
ATTACH;FMTTYPE=image/png:https://fatrat85.com/wp-content/uploads/2026/01/Le-Diner-de-Conde-VF.png
END:VEVENT
BEGIN:VEVENT
DTSTART;TZID=Europe/Paris:20260503T160000
DTEND;TZID=Europe/Paris:20260503T183000
DTSTAMP:20260420T061834
CREATED:20260114T140609Z
LAST-MODIFIED:20260203T180952Z
UID:10000365-1777824000-1777833000@fatrat85.com
SUMMARY:Le Dîner de Condé
DESCRIPTION:Une comédie de Sandrine Campese (éditions la librairie théâtrale)\, mise en scène de Romain Bonnet \nLe Grand Condé\, pour regagner les faveurs de son cousin Louis XIV\, le convie\, lui et sa cour\, en son château de Chantilly pour trois jours de festivités. Deux mille couverts doivent être prêts en un temps record. Afin d’organiser cette somptueuse réception\, Condé peut compter sur la crème des maîtres d’hôtel : François Vatel. Mais ce dernier\, flanqué d’une équipe incontrôlable\, n’est pas au bout de ses surprises. Entre coups tordus et coups du sort\, les préparatifs s’avèrent plus tumultueux que prévus… \nUne comédie haute en couleur\, aux dialogues piquants qui rend hommage à un personnage au destin exceptionnel : François Vatel. \n…………………………………………………………. \nRéservations : \n\n07 80 27 08 41\nmezzoreilles@gmail.com\nhttps://www.helloasso.com/associations/mezzo-reilles\n\n…………………………………………………………. \nToutes les dates : \n\nAux Sables d’Olonne :\n\nVendredi 20 et samedi 21 mars à 20h30 et dimanche 22 mars à 16h à l’Espadon \nVendredi 27 et samedi 28 mars à 20h30 et dimanche 29 mars à 16h à la Gargamoëlle \n\nA Angles :\n\nSamedi 2 mai à 20h30 et dimanche 3 mai à 16h au théâtre municipal
URL:https://fatrat85.com/evenement/le-diner-de-conde-3/2026-05-03/
LOCATION:Théâtre municipal ANGLES\, 14bis rue du Stade\, ANGLES\, Pays de la Loire\, 85750\, France
ATTACH;FMTTYPE=image/png:https://fatrat85.com/wp-content/uploads/2026/01/Le-Diner-de-Conde-VF.png
END:VEVENT
END:VCALENDAR